BEGIN:VCALENDAR
VERSION:2.0
PRODID:-//Asian Community Alliance Inc. - ECPv6.15.20//NONSGML v1.0//EN
CALSCALE:GREGORIAN
METHOD:PUBLISH
X-ORIGINAL-URL:https://asiancommunityalliance.org
X-WR-CALDESC:Events for Asian Community Alliance Inc.
REFRESH-INTERVAL;VALUE=DURATION:PT1H
X-Robots-Tag:noindex
X-PUBLISHED-TTL:PT1H
BEGIN:VTIMEZONE
TZID:America/New_York
BEGIN:DAYLIGHT
TZOFFSETFROM:-0500
TZOFFSETTO:-0400
TZNAME:EDT
DTSTART:20170312T070000
END:DAYLIGHT
BEGIN:STANDARD
TZOFFSETFROM:-0400
TZOFFSETTO:-0500
TZNAME:EST
DTSTART:20171105T060000
END:STANDARD
BEGIN:DAYLIGHT
TZOFFSETFROM:-0500
TZOFFSETTO:-0400
TZNAME:EDT
DTSTART:20180311T070000
END:DAYLIGHT
BEGIN:STANDARD
TZOFFSETFROM:-0400
TZOFFSETTO:-0500
TZNAME:EST
DTSTART:20181104T060000
END:STANDARD
BEGIN:DAYLIGHT
TZOFFSETFROM:-0500
TZOFFSETTO:-0400
TZNAME:EDT
DTSTART:20190310T070000
END:DAYLIGHT
BEGIN:STANDARD
TZOFFSETFROM:-0400
TZOFFSETTO:-0500
TZNAME:EST
DTSTART:20191103T060000
END:STANDARD
BEGIN:DAYLIGHT
TZOFFSETFROM:-0500
TZOFFSETTO:-0400
TZNAME:EDT
DTSTART:20200308T070000
END:DAYLIGHT
BEGIN:STANDARD
TZOFFSETFROM:-0400
TZOFFSETTO:-0500
TZNAME:EST
DTSTART:20201101T060000
END:STANDARD
BEGIN:DAYLIGHT
TZOFFSETFROM:-0500
TZOFFSETTO:-0400
TZNAME:EDT
DTSTART:20210314T070000
END:DAYLIGHT
BEGIN:STANDARD
TZOFFSETFROM:-0400
TZOFFSETTO:-0500
TZNAME:EST
DTSTART:20211107T060000
END:STANDARD
BEGIN:DAYLIGHT
TZOFFSETFROM:-0500
TZOFFSETTO:-0400
TZNAME:EDT
DTSTART:20220313T070000
END:DAYLIGHT
BEGIN:STANDARD
TZOFFSETFROM:-0400
TZOFFSETTO:-0500
TZNAME:EST
DTSTART:20221106T060000
END:STANDARD
BEGIN:DAYLIGHT
TZOFFSETFROM:-0500
TZOFFSETTO:-0400
TZNAME:EDT
DTSTART:20230312T070000
END:DAYLIGHT
BEGIN:STANDARD
TZOFFSETFROM:-0400
TZOFFSETTO:-0500
TZNAME:EST
DTSTART:20231105T060000
END:STANDARD
BEGIN:DAYLIGHT
TZOFFSETFROM:-0500
TZOFFSETTO:-0400
TZNAME:EDT
DTSTART:20240310T070000
END:DAYLIGHT
BEGIN:STANDARD
TZOFFSETFROM:-0400
TZOFFSETTO:-0500
TZNAME:EST
DTSTART:20241103T060000
END:STANDARD
BEGIN:DAYLIGHT
TZOFFSETFROM:-0500
TZOFFSETTO:-0400
TZNAME:EDT
DTSTART:20250309T070000
END:DAYLIGHT
BEGIN:STANDARD
TZOFFSETFROM:-0400
TZOFFSETTO:-0500
TZNAME:EST
DTSTART:20251102T060000
END:STANDARD
END:VTIMEZONE
BEGIN:VEVENT
DTSTART;TZID=America/New_York:20240511T090000
DTEND;TZID=America/New_York:20240511T130000
DTSTAMP:20260424T213230
CREATED:20240509T155205Z
LAST-MODIFIED:20240509T161019Z
UID:8142-1715418000-1715432400@asiancommunityalliance.org
SUMMARY:NAMIWalks Southwest Ohio 2024
DESCRIPTION:NAMIWalks Southwest Ohio\n  \n\n\nNAMIWalks Southwest Ohio\nI’m supporting NAMI! \n\n\n 
URL:https://asiancommunityalliance.org/event/namiwalks-southwest-ohio-2024/
LOCATION:Sawyer Point Park\, 705 E Pete Rose Way\, cincinnati\, OH\, 45202\, United States
CATEGORIES:Community Events,Mental Health
END:VEVENT
BEGIN:VEVENT
DTSTART;TZID=America/New_York:20180816T140000
DTEND;TZID=America/New_York:20180816T153000
DTSTAMP:20260424T213230
CREATED:20180810T082027Z
LAST-MODIFIED:20180810T082027Z
UID:6089-1534428000-1534433400@asiancommunityalliance.org
SUMMARY:Community Education Series: Treatment Resistant Depression and Mood Disorders
DESCRIPTION:Free Community Education Series\nPresented by Lindner Center of HOPE clinicians \nSponsored by the Lindner Center of Hope with support from Manor House \n\n\n\n\nAugust 15\, 2018: \nTreatment Resistant Depression and Mood Disorders\nNelson Rodriguez\, MD\, FAPA \n\n\n\n\nExpert discussion of:\n• Mental Health\n• Substance use disorders\n• Treatment and strategies for coping \nThird Wednesday of every other month\nfrom 6 p.m. to 7:30 p.m. at:\nManor House\n7440 Mason-Montgomery Rd.\nMason\, OH 45040 \nRegister by calling Pricila Gran at (513) 536-0318 or\nemail name and phone number of attendees to\npricila.gran@lindnercenter.org.
URL:https://asiancommunityalliance.org/event/community-education-series-treatment-resistant-depression-and-mood-disorders/
LOCATION:Manor House\, 7440 Mason-Montgomery Road\, Mason\, OH\, 45040
CATEGORIES:Mental Health
ATTACH;FMTTYPE=application/pdf:https://asiancommunityalliance.org/wp-content/uploads/2018/08/Education-Series-2018-Flyer_for-print.pdf
ORGANIZER;CN="Lindner Center of Hope":MAILTO:pricila.gran@lindnercenter.org
END:VEVENT
END:VCALENDAR