BEGIN:VCALENDAR
VERSION:2.0
PRODID:-//Asian Community Alliance Inc. - ECPv6.15.20//NONSGML v1.0//EN
CALSCALE:GREGORIAN
METHOD:PUBLISH
X-WR-CALNAME:Asian Community Alliance Inc.
X-ORIGINAL-URL:https://asiancommunityalliance.org
X-WR-CALDESC:Events for Asian Community Alliance Inc.
REFRESH-INTERVAL;VALUE=DURATION:PT1H
X-Robots-Tag:noindex
X-PUBLISHED-TTL:PT1H
BEGIN:VTIMEZONE
TZID:America/New_York
BEGIN:DAYLIGHT
TZOFFSETFROM:-0500
TZOFFSETTO:-0400
TZNAME:EDT
DTSTART:20230312T070000
END:DAYLIGHT
BEGIN:STANDARD
TZOFFSETFROM:-0400
TZOFFSETTO:-0500
TZNAME:EST
DTSTART:20231105T060000
END:STANDARD
BEGIN:DAYLIGHT
TZOFFSETFROM:-0500
TZOFFSETTO:-0400
TZNAME:EDT
DTSTART:20240310T070000
END:DAYLIGHT
BEGIN:STANDARD
TZOFFSETFROM:-0400
TZOFFSETTO:-0500
TZNAME:EST
DTSTART:20241103T060000
END:STANDARD
BEGIN:DAYLIGHT
TZOFFSETFROM:-0500
TZOFFSETTO:-0400
TZNAME:EDT
DTSTART:20250309T070000
END:DAYLIGHT
BEGIN:STANDARD
TZOFFSETFROM:-0400
TZOFFSETTO:-0500
TZNAME:EST
DTSTART:20251102T060000
END:STANDARD
END:VTIMEZONE
BEGIN:VEVENT
DTSTART;TZID=America/New_York:20240802T173000
DTEND;TZID=America/New_York:20240803T200000
DTSTAMP:20260424T160238
CREATED:20240724T025804Z
LAST-MODIFIED:20240724T025923Z
UID:8167-1722619800-1722715200@asiancommunityalliance.org
SUMMARY:High School Youth Workshop 2024 Aug 2 & Aug 3
DESCRIPTION:Sign up for the workshop.\nhttps://www.canva.com/design/DAGK-a6dG-A/RRqJMHWk3s5NWEaelOmzXA/edit?utm_content=DAGK-a6dG-A&utm_campaign=designshare&utm_medium=link2&utm_source=sharebutton
URL:https://asiancommunityalliance.org/event/high-school-youth-workshop-2024-aug-2-aug-3/
LOCATION:Mason Municipal Center\, 6000 Mason-Montgomery Road\, Mason\, OH\, 45040\, United States
CATEGORIES:ACA Events,Youth Event
END:VEVENT
BEGIN:VEVENT
DTSTART;TZID=America/New_York:20240721T130000
DTEND;TZID=America/New_York:20240721T170000
DTSTAMP:20260424T160238
CREATED:20240708T014637Z
LAST-MODIFIED:20240708T014637Z
UID:8158-1721566800-1721581200@asiancommunityalliance.org
SUMMARY:Youth Event- sponsored by the GCCCEA group
DESCRIPTION:
URL:https://asiancommunityalliance.org/event/youth-event-sponsored-by-the-gcccea-group/
LOCATION:846 Reading Road\, MASON\, OH\, 45040\, United States
CATEGORIES:Youth Event
END:VEVENT
BEGIN:VEVENT
DTSTART;TZID=America/New_York:20240113T170000
DTEND;TZID=America/New_York:20240113T193000
DTSTAMP:20260424T160238
CREATED:20240101T001047Z
LAST-MODIFIED:20240101T001507Z
UID:7961-1705165200-1705174200@asiancommunityalliance.org
SUMMARY:Potluck Movie Night
DESCRIPTION:Asian Community Alliance and Asian Youth Org invite you to attend Potluck Movie Night at \nMason Municipal Center \n6000 Mason Montgomery Road \nSaturday\, January 13th\, 2024 \nBring a dish to share with the Asian Youth Alliance while watching a fun movie! Signup today: \nhttps://docs.google.com/forms/d/e/1FAIpQLScIpD4OlMJU2aGQzvty4Z8khu3NUXlFn7Ufjatn935mHIs-lw/viewform
URL:https://asiancommunityalliance.org/event/potluck-movie-night/
LOCATION:Mason Municipal Center\, 6000 Mason-Montgomery Road\, Mason\, OH\, 45040\, United States
CATEGORIES:ACA Events,Community Events,Youth Event
ATTACH;FMTTYPE=image/jpeg:https://asiancommunityalliance.org/wp-content/uploads/2023/12/Add-a-heading.jpg
END:VEVENT
END:VCALENDAR