BEGIN:VCALENDAR
VERSION:2.0
PRODID:-//Asian Community Alliance Inc. - ECPv6.15.20//NONSGML v1.0//EN
CALSCALE:GREGORIAN
METHOD:PUBLISH
X-WR-CALNAME:Asian Community Alliance Inc.
X-ORIGINAL-URL:https://asiancommunityalliance.org
X-WR-CALDESC:Events for Asian Community Alliance Inc.
REFRESH-INTERVAL;VALUE=DURATION:PT1H
X-Robots-Tag:noindex
X-PUBLISHED-TTL:PT1H
BEGIN:VTIMEZONE
TZID:America/New_York
BEGIN:DAYLIGHT
TZOFFSETFROM:-0500
TZOFFSETTO:-0400
TZNAME:EDT
DTSTART:20170312T070000
END:DAYLIGHT
BEGIN:STANDARD
TZOFFSETFROM:-0400
TZOFFSETTO:-0500
TZNAME:EST
DTSTART:20171105T060000
END:STANDARD
BEGIN:DAYLIGHT
TZOFFSETFROM:-0500
TZOFFSETTO:-0400
TZNAME:EDT
DTSTART:20180311T070000
END:DAYLIGHT
BEGIN:STANDARD
TZOFFSETFROM:-0400
TZOFFSETTO:-0500
TZNAME:EST
DTSTART:20181104T060000
END:STANDARD
BEGIN:DAYLIGHT
TZOFFSETFROM:-0500
TZOFFSETTO:-0400
TZNAME:EDT
DTSTART:20190310T070000
END:DAYLIGHT
BEGIN:STANDARD
TZOFFSETFROM:-0400
TZOFFSETTO:-0500
TZNAME:EST
DTSTART:20191103T060000
END:STANDARD
END:VTIMEZONE
BEGIN:VEVENT
DTSTART;TZID=America/New_York:20181103T080000
DTEND;TZID=America/New_York:20181103T110000
DTSTAMP:20260425T140958
CREATED:20180917T201157Z
LAST-MODIFIED:20181031T201632Z
UID:6347-1541232000-1541242800@asiancommunityalliance.org
SUMMARY:'Get Out the Vote' Live Phone-Banking Event
DESCRIPTION:Help us get out the vote!\nAs part of the AAPI Civic Engagement Network of Ohio\, Asian Community Alliance (ACA) will be hosting two live phone banking events in advance of the November 6 general elections (midterms). ACA is in need of volunteers ($15/ hour) to assist in calling AAPI voters and reminding them to vote in November. \nSaturday\, November 3\n12:00 – 3:00 PM\nAsian Community Alliance Office\n7577 Central Parke Blvd.\nMason\, OH 45040 \nSunday\, November 4\n12:00 – 3:00 PM\nAsian Community Alliance Office\n7577 Central Parke Blvd.\nMason\, OH 45040 \nTraining (30 minutes) will be provided at the start of each event and the phone baking will last fo approximately 2 hours. You must be at least 14 years old\, bring your own phone\, provide a social security number\, and remain for the duration of the event in order to be eligible for compensation.To commit to one or both events\, you must email\nrebecca@asiancommunityalliance.org no later than Friday\, November 2. Be sure to specify which event (or both) you will be attending. \nWe hope you will join us!\nQuestions? Email rebecca@asiancommunityalliance.org or call 513-318-9223.
URL:https://asiancommunityalliance.org/event/phonebank1/
LOCATION:7577 Central Parke Blvd. Suite #222\, Mason OH\, 7577 Central Parke Blvd. Suite #222\, mason\, OH\, 45040\, United States
CATEGORIES:ACA Events,Civic Engagement
END:VEVENT
END:VCALENDAR